BEGIN:VCALENDAR
VERSION:2.0
PRODID:-//Contratero//ES
CALSCALE:GREGORIAN
METHOD:PUBLISH
BEGIN:VEVENT
UID:P.9000 2021/19193-Ayto.Armilla@contratero.es
DTSTAMP:20260424T203200Z
DTSTART:20210819T235959
DTEND:20210820T005959
SUMMARY:Cierre: Servicio para la implantación de un sistema de ges
DESCRIPTION:Servicio para la implantación de un sistema de gestión de la calidad y un servicio de certificación del sistema de gestión de la calidad\\n\\nOrganismo: Alcaldía del Ayuntamiento de Armilla\\n\\nVer en Contratero: https://contratero.es/contracts/P.9000 2021/19193-Ayto.Armilla
URL:https://contratero.es/contracts/P.9000 2021/19193-Ayto.Armilla
STATUS:CONFIRMED
BEGIN:VALARM
TRIGGER:-P1D
ACTION:DISPLAY
DESCRIPTION:Recordatorio: Servicio para la implantación 
END:VALARM
END:VEVENT
END:VCALENDAR